BEGIN:VCALENDAR
VERSION:2.0
PRODID:-//Edgewall Software//NONSGML Trac 1.4.4//EN
METHOD:PUBLISH
X-WR-CALNAME: - Roadmap
X-WR-CALDESC:
X-WR-TIMEZONE:UTC+03:00
BEGIN:VEVENT
UID:</milestone/альфа Paranoia@tracker.seamless-realm.ru>
DTSTAMP:20260130T210000Z
DTSTART;VALUE=DATE:20260131
SUMMARY:Milestone альфа Paranoia
URL:https://tracker.seamless-realm.ru/milestone/%D0%B0%D0%BB%D1%8C%D1%84%D0
 %B0%20Paranoia
END:VEVENT
BEGIN:VEVENT
UID:</milestone/просмотрщик моделей@tracker.seamless-realm.ru>
DTSTAMP:20260131T150000Z
DTSTART;VALUE=DATE:20260131
SUMMARY:Milestone просмотрщик моделей
URL:https://tracker.seamless-realm.ru/milestone/%D0%BF%D1%80%D0%BE%D1%81%D0
 %BC%D0%BE%D1%82%D1%80%D1%89%D0%B8%D0%BA%20%D0%BC%D0%BE%D0%B4%D0%B5%D0%BB%D
 0%B5%D0%B9
DESCRIPTION:Возможность просматривать модели в просмотрщике.\nРеорганизация
  архитектуры движка таким образом\, чтобы переиспользовать базовые части а
 рхитектуры в инструментах для редактирования.
END:VEVENT
BEGIN:VEVENT
UID:</milestone/альфа Comrades@tracker.seamless-realm.ru>
DTSTAMP:20260131T205959Z
DTSTART;VALUE=DATE:20260131
SUMMARY:Milestone альфа Comrades
URL:https://tracker.seamless-realm.ru/milestone/%D0%B0%D0%BB%D1%8C%D1%84%D0
 %B0%20Comrades
DESCRIPTION:Доведение Камрадов до уровня\, когда их не стыдно показать маме
 .\nИсправление багов\, причесывание старых уровней до некоторого предела.
END:VEVENT
BEGIN:VEVENT
UID:</milestone/порт VLC@tracker.seamless-realm.ru>
DTSTAMP:20260201T150000Z
DTSTART;VALUE=DATE:20260201
SUMMARY:Milestone порт VLC
URL:https://tracker.seamless-realm.ru/milestone/%D0%BF%D0%BE%D1%80%D1%82%20
 VLC
DESCRIPTION:Завершение портирования VLC на Shot\nПортирование базового комп
 онента Delphi Visual Components Library на среду выполнения Head Shot.
END:VEVENT
BEGIN:VEVENT
UID:</milestone/основа игрового фреймворка@tracker.seamless-realm.ru>
DTSTAMP:20260401T150000Z
DTSTART;VALUE=DATE:20260401
SUMMARY:Milestone основа игрового фреймворка
URL:https://tracker.seamless-realm.ru/milestone/%D0%BE%D1%81%D0%BD%D0%BE%D0
 %B2%D0%B0%20%D0%B8%D0%B3%D1%80%D0%BE%D0%B2%D0%BE%D0%B3%D0%BE%20%D1%84%D1%8
 0%D0%B5%D0%B9%D0%BC%D0%B2%D0%BE%D1%80%D0%BA%D0%B0
DESCRIPTION:Основа фреймворка на Шоте.\nПозволяет создать новый проект\, ре
 ализовано подключение модели игрока (руки) с анимациями\, перемещение по у
 ровню.
END:VEVENT
BEGIN:VEVENT
UID:</milestone/прототип редактора@tracker.seamless-realm.ru>
DTSTAMP:20260401T150000Z
DTSTART;VALUE=DATE:20260401
SUMMARY:Milestone прототип редактора
URL:https://tracker.seamless-realm.ru/milestone/%D0%BF%D1%80%D0%BE%D1%82%D0
 %BE%D1%82%D0%B8%D0%BF%20%D1%80%D0%B5%D0%B4%D0%B0%D0%BA%D1%82%D0%BE%D1%80%D
 0%B0
DESCRIPTION:Базовый редактор для внутреннего использования.\nВозможность со
 здать в нем карту-коробку\, скомпилировать и запустить
END:VEVENT
END:VCALENDAR
